BEGIN:VCALENDAR
VERSION:2.0
PRODID:-//OmniMagnetCalendar//EN
BEGIN:VEVENT
DTSTAMP:20190625T195740Z
STATUS:CONFIRMED
UID:detroit.illiniclub.org220
DTSTART:20260603T200000Z
DTEND:20260604T230000Z
LOCATION:Western International High School, 1500 Scotten St, Detroit, MI, Detroit, MI, 48209, USA,
SUMMARY:Community Service Event - Gleaners Distribution - June 3 at 4pm
DESCRIPTION:Come join your fellow Illini at the Detroit Illini Club's annual community service event in Detroit! This year we will be distributing food to people in Detroit on Wednesday, June 3rd.
BEGIN:VALARM
TRIGGER:-PT15M
ACTION:DISPLAY
END:VALARM
TRANSP:OPAQUE
END:VEVENT
END:VCALENDAR
